BEGIN:VCALENDAR
VERSION:2.0
PRODID:-//Förderverein der Schule am Kastanienhain - ECPv6.15.7//NONSGML v1.0//EN
CALSCALE:GREGORIAN
METHOD:PUBLISH
X-WR-CALNAME:Förderverein der Schule am Kastanienhain
X-ORIGINAL-URL:https://foerderverein-grundschule-schneidhain.de
X-WR-CALDESC:Veranstaltungen für Förderverein der Schule am Kastanienhain
REFRESH-INTERVAL;VALUE=DURATION:PT1H
X-Robots-Tag:noindex
X-PUBLISHED-TTL:PT1H
BEGIN:VTIMEZONE
TZID:Europe/Berlin
BEGIN:DAYLIGHT
TZOFFSETFROM:+0100
TZOFFSETTO:+0200
TZNAME:CEST
DTSTART:20240331T010000
END:DAYLIGHT
BEGIN:STANDARD
TZOFFSETFROM:+0200
TZOFFSETTO:+0100
TZNAME:CET
DTSTART:20241027T010000
END:STANDARD
BEGIN:DAYLIGHT
TZOFFSETFROM:+0100
TZOFFSETTO:+0200
TZNAME:CEST
DTSTART:20250330T010000
END:DAYLIGHT
BEGIN:STANDARD
TZOFFSETFROM:+0200
TZOFFSETTO:+0100
TZNAME:CET
DTSTART:20251026T010000
END:STANDARD
BEGIN:DAYLIGHT
TZOFFSETFROM:+0100
TZOFFSETTO:+0200
TZNAME:CEST
DTSTART:20260329T010000
END:DAYLIGHT
BEGIN:STANDARD
TZOFFSETFROM:+0200
TZOFFSETTO:+0100
TZNAME:CET
DTSTART:20261025T010000
END:STANDARD
END:VTIMEZONE
BEGIN:VEVENT
DTSTART;TZID=Europe/Berlin:20250518T130000
DTEND;TZID=Europe/Berlin:20250518T170000
DTSTAMP:20260421T155327
CREATED:20241230T134608Z
LAST-MODIFIED:20241230T134608Z
UID:802-1747573200-1747587600@foerderverein-grundschule-schneidhain.de
SUMMARY:Kuchenbuffet beim Benefizlauf
DESCRIPTION:
URL:https://foerderverein-grundschule-schneidhain.de/event/kuchenbuffet-beim-benefizlauf
LOCATION:Kurpark Königstein im Taunus
END:VEVENT
BEGIN:VEVENT
DTSTART;TZID=Europe/Berlin:20250208T200000
DTEND;TZID=Europe/Berlin:20250209T020000
DTSTAMP:20260421T155327
CREATED:20241230T134147Z
LAST-MODIFIED:20241230T135803Z
UID:797-1739044800-1739066400@foerderverein-grundschule-schneidhain.de
SUMMARY:Elterndisco
DESCRIPTION:
URL:https://foerderverein-grundschule-schneidhain.de/event/elterndisco
LOCATION:Grundschule am Kastanienhain
END:VEVENT
BEGIN:VEVENT
DTSTART;TZID=Europe/Berlin:20250207T160000
DTEND;TZID=Europe/Berlin:20250207T190000
DTSTAMP:20260421T155327
CREATED:20241230T134428Z
LAST-MODIFIED:20241230T134446Z
UID:800-1738944000-1738954800@foerderverein-grundschule-schneidhain.de
SUMMARY:Schülderdisco
DESCRIPTION:
URL:https://foerderverein-grundschule-schneidhain.de/event/schuelderdisco
LOCATION:Grundschule am Kastanienhain
END:VEVENT
END:VCALENDAR